BEGIN:VCALENDAR
VERSION:2.0
PRODID:-//pololiteraciadigital - ECPv6.9.0//NONSGML v1.0//EN
CALSCALE:GREGORIAN
METHOD:PUBLISH
X-WR-CALNAME:pololiteraciadigital
X-ORIGINAL-URL:https://pololiteraciadigital.ipsantarem.pt
X-WR-CALDESC:Events for pololiteraciadigital
REFRESH-INTERVAL;VALUE=DURATION:PT1H
X-Robots-Tag:noindex
X-PUBLISHED-TTL:PT1H
BEGIN:VTIMEZONE
TZID:UTC
BEGIN:STANDARD
TZOFFSETFROM:+0000
TZOFFSETTO:+0000
TZNAME:UTC
DTSTART:20250101T000000
END:STANDARD
END:VTIMEZONE
BEGIN:VEVENT
DTSTART;TZID=UTC:20251013T180000
DTEND;TZID=UTC:20251013T213000
DTSTAMP:20260425T231806
CREATED:20251009T111240Z
LAST-MODIFIED:20251009T111240Z
UID:6780-1760378400-1760391000@pololiteraciadigital.ipsantarem.pt
SUMMARY:🧠 Seminário “Applied Informatics Talks 2025”
DESCRIPTION:Temas: Inteligência Artificial\, Cibersegurança\, Pensamento Crítico e Ciência de Dados📅 13 de outubro de 2025📍 Auditório da ESGTS – Instituto Politécnico de Santarém🕕 18h00 – 21h30💻 Participação presencial ou online (via Teams) \n🔗 Aceder à reunião no Microsoft Teams📄 Formulário de inscrição🆔 ID da reunião: 335 107 710 130 6🔑 Código de acesso: mu7yZ9ue \n\nAgenda\n18:00 – 18:09 | Sessão de Abertura \n\nDireção da ESGTS\, Coordenação do CIAC-PLDIS-IPSantarém e Coordenação do Mestrado em Informática Aplicada \n\n\n18:10 – 18:59 | Nuno Lourenço (CISUC – Universidade de Coimbra)🧩 Título: “IA em Evolução: Sustentabilidade\, Adaptação e Descoberta”Nuno Lourenço é Professor Associado na Universidade de Coimbra\, coordenador do grupo de Inteligência Artificial Bioinspirada (bAI) e investigador em algoritmos “bioinspirados”\, otimização e aprendizagem automática. \n\nE se os mesmos princípios que moldaram a vida na Terra pudessem também moldar o futuro da inteligência artificial? A Computação Evolucionária oferece um caminho para uma IA mais sustentável\, adaptativa e energeticamente eficiente. \n\n\n19:00 – 19:59 | Gonçalo Pires (Palo Alto Networks)🔒 Título: “Tendências atuais ao nível da cibersegurança | Abordagem Palo Alto”Solutions Consultant na Palo Alto Networks\, onde lidera o apoio técnico a clientes na transformação das suas estratégias de segurança. Especialista em arquiteturas de cibersegurança de última geração que garantem valor real para as organizações. \n\n20:00 – 20:59 | Frederico Batista (Winning / ESGTS)💡 Título: “Pensar em Tempos de Ruído: O Poder do Pensamento Crítico na Era Digital”Doutorado em Gestão pelo ISCTE\, Partner na Winning e Professor Convidado na ESGTS. Explora a importância do pensamento crítico e da literacia digital como competências essenciais para compreender e avaliar informação num mundo digital cada vez mais complexo. \n\n21:00 – 21:30 | Ricardo São João (ESGTS + CEAUL + CIDNUR + CEG-UAb)📊 Título: “Data Science com software open source + livre e grátis: um bom casamento”Investigador em Bioestatística e Epidemiologia\, doutorado em Ciências da Vida – Saúde das Populações. Apresenta uma perspetiva prática sobre a aplicação de métodos estatísticos e ciência de dados com ferramentas abertas e acessíveis. \n\n🪪 Organização\nEvento promovido pela ESGTS – Instituto Politécnico de Santarém\, em parceria com o CIAC-PLDIS e o Mestrado em Informática Aplicada.
URL:https://pololiteraciadigital.ipsantarem.pt/event/%f0%9f%a7%a0-seminario-applied-informatics-talks-2025/
ATTACH;FMTTYPE=image/png:https://pololiteraciadigital.ipsantarem.pt/wp-content/uploads/2025/10/Captura-de-ecra-2025-10-09-120815.png
END:VEVENT
END:VCALENDAR