BEGIN:VCALENDAR
VERSION:2.0
PRODID:-//pololiteraciadigital - ECPv6.9.0//NONSGML v1.0//EN
CALSCALE:GREGORIAN
METHOD:PUBLISH
X-WR-CALNAME:pololiteraciadigital
X-ORIGINAL-URL:https://pololiteraciadigital.ipsantarem.pt
X-WR-CALDESC:Events for pololiteraciadigital
REFRESH-INTERVAL;VALUE=DURATION:PT1H
X-Robots-Tag:noindex
X-PUBLISHED-TTL:PT1H
BEGIN:VTIMEZONE
TZID:UTC
BEGIN:STANDARD
TZOFFSETFROM:+0000
TZOFFSETTO:+0000
TZNAME:UTC
DTSTART:20250101T000000
END:STANDARD
END:VTIMEZONE
BEGIN:VEVENT
DTSTART;TZID=UTC:20251006T160000
DTEND;TZID=UTC:20251006T160000
DTSTAMP:20260426T025504
CREATED:20251001T134158Z
LAST-MODIFIED:20251001T134223Z
UID:6775-1759766400-1759766400@pololiteraciadigital.ipsantarem.pt
SUMMARY:CICLO DE WEBINARS PLDIS 2025/26
DESCRIPTION:Sessão 1🗓 6 de outubro de 2025⏰ 16h00 \n\n🎤 Tema\nFrom Project to Indexing: A Guide to Creating a Scientific Journal \n\n👥 Oradores\n\n\nSusana Costa – Professor Adjunto Convidado (UAlg) \n\n\nAna Filipa C. Martins – Professor Adjunto (UAlg) \n\n\nPatrícia Dourado – Assistente Convidado (UAlg) \n\n\nBruno Mendes da Silva – Professor Coordenador com Agregação (UAlg) \n\n\n\n🔗 Inscrição
URL:https://pololiteraciadigital.ipsantarem.pt/event/ciclo-de-webinars-pldis-2025-26/
END:VEVENT
BEGIN:VEVENT
DTSTART;TZID=UTC:20251007T090000
DTEND;TZID=UTC:20251008T180000
DTSTAMP:20260426T025504
CREATED:20250716T090432Z
LAST-MODIFIED:20250716T090540Z
UID:6605-1759827600-1759946400@pololiteraciadigital.ipsantarem.pt
SUMMARY:Conferência Internacional de Sistemas de Informação\, Transformação Digital e Informática na Educação
DESCRIPTION:📅 Datas: 7 e 8 de outubro de 2025📍 Local: Universidade Pedagógica de Maputo (UP-Maputo)\, Campus Lhanguene🕒 Duração: 2 dias💡 Tema: Inovar\, Conectar e Transformar o Saber no Mundo Digital🎯 Objetivo: Promover o intercâmbio de conhecimentos\, experiências\, práticas e investigação sobre o papel dos sistemas de informação\, da transformação digital e da informática no contexto educativo contemporâneo. \n🧑‍🏫 Público-alvo: \n\n\nProfessores \n\n\nInvestigadores \n\n\nEstudantes \n\n\nProfissionais da educação \n\n\nDecisores e técnicos ligados ao setor educativo e tecnológico \n\n\n📢 Chamada de Trabalhos: \n\n\nSubmissões abertas até 30 de julho de 2025 \n\n\n🔗 Mais informações: https://conferencia-sitdie.up.ac.mz/pt \nOrganizado por José Hoguane (antigo estudante do Doutoramento em Média-Arte Digital – DMAD)
URL:https://pololiteraciadigital.ipsantarem.pt/event/conferencia-internacional-de-sistemas-de-informacao-transformacao-digital-e-informatica-na-educacao/
END:VEVENT
BEGIN:VEVENT
DTSTART;TZID=UTC:20251013T180000
DTEND;TZID=UTC:20251013T213000
DTSTAMP:20260426T025504
CREATED:20251009T111240Z
LAST-MODIFIED:20251009T111240Z
UID:6780-1760378400-1760391000@pololiteraciadigital.ipsantarem.pt
SUMMARY:🧠 Seminário “Applied Informatics Talks 2025”
DESCRIPTION:Temas: Inteligência Artificial\, Cibersegurança\, Pensamento Crítico e Ciência de Dados📅 13 de outubro de 2025📍 Auditório da ESGTS – Instituto Politécnico de Santarém🕕 18h00 – 21h30💻 Participação presencial ou online (via Teams) \n🔗 Aceder à reunião no Microsoft Teams📄 Formulário de inscrição🆔 ID da reunião: 335 107 710 130 6🔑 Código de acesso: mu7yZ9ue \n\nAgenda\n18:00 – 18:09 | Sessão de Abertura \n\nDireção da ESGTS\, Coordenação do CIAC-PLDIS-IPSantarém e Coordenação do Mestrado em Informática Aplicada \n\n\n18:10 – 18:59 | Nuno Lourenço (CISUC – Universidade de Coimbra)🧩 Título: “IA em Evolução: Sustentabilidade\, Adaptação e Descoberta”Nuno Lourenço é Professor Associado na Universidade de Coimbra\, coordenador do grupo de Inteligência Artificial Bioinspirada (bAI) e investigador em algoritmos “bioinspirados”\, otimização e aprendizagem automática. \n\nE se os mesmos princípios que moldaram a vida na Terra pudessem também moldar o futuro da inteligência artificial? A Computação Evolucionária oferece um caminho para uma IA mais sustentável\, adaptativa e energeticamente eficiente. \n\n\n19:00 – 19:59 | Gonçalo Pires (Palo Alto Networks)🔒 Título: “Tendências atuais ao nível da cibersegurança | Abordagem Palo Alto”Solutions Consultant na Palo Alto Networks\, onde lidera o apoio técnico a clientes na transformação das suas estratégias de segurança. Especialista em arquiteturas de cibersegurança de última geração que garantem valor real para as organizações. \n\n20:00 – 20:59 | Frederico Batista (Winning / ESGTS)💡 Título: “Pensar em Tempos de Ruído: O Poder do Pensamento Crítico na Era Digital”Doutorado em Gestão pelo ISCTE\, Partner na Winning e Professor Convidado na ESGTS. Explora a importância do pensamento crítico e da literacia digital como competências essenciais para compreender e avaliar informação num mundo digital cada vez mais complexo. \n\n21:00 – 21:30 | Ricardo São João (ESGTS + CEAUL + CIDNUR + CEG-UAb)📊 Título: “Data Science com software open source + livre e grátis: um bom casamento”Investigador em Bioestatística e Epidemiologia\, doutorado em Ciências da Vida – Saúde das Populações. Apresenta uma perspetiva prática sobre a aplicação de métodos estatísticos e ciência de dados com ferramentas abertas e acessíveis. \n\n🪪 Organização\nEvento promovido pela ESGTS – Instituto Politécnico de Santarém\, em parceria com o CIAC-PLDIS e o Mestrado em Informática Aplicada.
URL:https://pololiteraciadigital.ipsantarem.pt/event/%f0%9f%a7%a0-seminario-applied-informatics-talks-2025/
ATTACH;FMTTYPE=image/png:https://pololiteraciadigital.ipsantarem.pt/wp-content/uploads/2025/10/Captura-de-ecra-2025-10-09-120815.png
END:VEVENT
BEGIN:VEVENT
DTSTART;VALUE=DATE:20251022
DTEND;VALUE=DATE:20251024
DTSTAMP:20260426T025504
CREATED:20251021T090343Z
LAST-MODIFIED:20251021T090343Z
UID:6790-1761091200-1761263999@pololiteraciadigital.ipsantarem.pt
SUMMARY:Luiz Pacheco 1925-2025 Passeia: Centenário do Escritor Celebrado com Cinema\, Leituras e Conversas
DESCRIPTION:O centenário do nascimento de Luiz Pacheco\, uma das figuras mais singulares e provocatórias da literatura portuguesa\, está a ser assinalado com o programa “Luiz Pacheco 1925-2025 Passeia”\, que decorre nos dias 22 e 23 de outubro de 2025\, em Setúbal e Palmela. \nA iniciativa reúne investigadores\, escritores e artistas para revisitar a vida e obra do autor\, através de sessões temáticas\, leituras encenadas\, debates e uma exposição comemorativa. \nO Cinema Charlot\, em Setúbal\, acolhe a sessão de abertura no dia 22 de outubro\, a partir das 13h45. No dia seguinte\, 23 de outubro\, as atividades transferem-se para a Biblioteca Municipal de Palmela\, com leituras encenadas e quatro sessões de reflexão que abordam o legado literário\, crítico e libertário de Luiz Pacheco. \nO programa culmina com a inauguração da exposição “Luiz Pacheco Passeia por Todo o Papel (1925-2025)”\, que revisita o percurso literário e humano do autor. \nA participação é gratuita\, mediante inscrição através do email bibliotecas@cm-palmela.pt. \nO evento é financiado por fundos nacionais através da Fundação para a Ciência e a Tecnologia (FCT)\, no âmbito dos projetos UnderDig (2023.14574.PEX) e UID/00077 – Centro de Literaturas e Culturas Lusófonas e Europeias\, contando com o apoio do Politécnico de Santarém.
URL:https://pololiteraciadigital.ipsantarem.pt/event/luiz-pacheco-1925-2025-passeia-centenario-do-escritor-celebrado-com-cinema-leituras-e-conversas/
ATTACH;FMTTYPE=image/png:https://pololiteraciadigital.ipsantarem.pt/wp-content/uploads/2025/10/Captura-de-ecra-2025-10-21-095700.png
END:VEVENT
BEGIN:VEVENT
DTSTART;TZID=UTC:20251103T160000
DTEND;TZID=UTC:20251103T170000
DTSTAMP:20260426T025504
CREATED:20251029T104206Z
LAST-MODIFIED:20251029T104206Z
UID:6807-1762185600-1762189200@pololiteraciadigital.ipsantarem.pt
SUMMARY:CICLO DE WEBINARS PLDIS 2025/26
DESCRIPTION:Sessão 2🗓 3 de novembro de 2025⏰ 16h00 \n🎤 TemaCreativity and Intellectual Property \n👥 OradorArtur Marques – Professor Adjunto (IPSantarém) \n🌐 Evento Onlinehttp://bit.ly/3WtkdBa \n📍 Organização e ApoioCIAC-PLDIS | IPSantarém | FCT – Fundação para a Ciência e a Tecnologia\, I.P.(Projecto UID/04019/2025 – CIAC)
URL:https://pololiteraciadigital.ipsantarem.pt/event/ciclo-de-webinars-pldis-2025-26-2/
ATTACH;FMTTYPE=image/jpeg:https://pololiteraciadigital.ipsantarem.pt/wp-content/uploads/2025/10/Cartaz-Eventos-CIAC-25-26-05-Web.jpg
END:VEVENT
BEGIN:VEVENT
DTSTART;TZID=UTC:20251215T160000
DTEND;TZID=UTC:20251215T170000
DTSTAMP:20260426T025504
CREATED:20251119T104150Z
LAST-MODIFIED:20251119T104150Z
UID:6985-1765814400-1765818000@pololiteraciadigital.ipsantarem.pt
SUMMARY:Webinar Sustainability\, Trust & Distributed Intelligence
DESCRIPTION:Join us for Session 3 of the CIAC-PLDIS series\, featuring researcher Dário Rodrigues in a thought-provoking talk on “The Final Economy: Sustainability\, Trust & Distributed Intelligence.”This session will explore how emerging models of distributed intelligence can shape more resilient\, trustworthy and sustainable economic systems. \n📅 15 December — 16:00💻 Online Event🔗 Registration: https://bit.ly/47NYDOg📍 Organized by: CIAC-PLDIS | IPSantarém | FCT – Fundação para a Ciência e a Tecnologia (Project UID/04019/2025 – CIAC)
URL:https://pololiteraciadigital.ipsantarem.pt/event/webinar-sustainability-trust-distributed-intelligence/
ATTACH;FMTTYPE=image/jpeg:https://pololiteraciadigital.ipsantarem.pt/wp-content/uploads/2025/11/Cartaz-Webinar-PLDIS-25-26-03-Web.jpg
END:VEVENT
BEGIN:VEVENT
DTSTART;TZID=UTC:20260106T080000
DTEND;TZID=UTC:20260106T170000
DTSTAMP:20260426T025504
CREATED:20260106T222829Z
LAST-MODIFIED:20260106T222829Z
UID:6998-1767686400-1767718800@pololiteraciadigital.ipsantarem.pt
SUMMARY:Exposição – Luiz Pacheco Passeia por Todo o País (1925–2025)
DESCRIPTION:Exposição – Luiz Pacheco Passeia por Todo o País (1925–2025)\n📅 8 de janeiro de 2026⏰ 17h00📍 Galeria de Turismo da Câmara Municipal das Caldas da Rainha \nNo âmbito do programa comemorativo do centenário do escritor\, editor e crítico literário Luiz Pacheco\, inaugura\, no dia 8 de janeiro\, pelas 17h\, a exposição Luiz Pacheco Passeia por Todo o País (1925–2025)\, com curadoria de Rui Sousa e Ana da Silva. \nA exposição estará patente ao público até 6 de fevereiro de 2026\, propondo um percurso pela vida\, obra e circulação de Luiz Pacheco pelo território nacional\, sublinhando a sua relevância cultural e literária.
URL:https://pololiteraciadigital.ipsantarem.pt/event/exposicao-luiz-pacheco-passeia-por-todo-o-pais-1925-2025/
ATTACH;FMTTYPE=image/png:https://pololiteraciadigital.ipsantarem.pt/wp-content/uploads/2026/01/Post_exp_jan2026.png
END:VEVENT
BEGIN:VEVENT
DTSTART;TZID=UTC:20260107T080000
DTEND;TZID=UTC:20260107T170000
DTSTAMP:20260426T025504
CREATED:20260106T222709Z
LAST-MODIFIED:20260106T222709Z
UID:6996-1767772800-1767805200@pololiteraciadigital.ipsantarem.pt
SUMMARY:Tertúlia – Uma Experiência de Desenvolvimento Comunitário
DESCRIPTION:Tertúlia – Uma Experiência de Desenvolvimento Comunitário com Júlio Ricardo\n📅 7 de janeiro de 2026⏰ 11h30 – 12h30📍 Politécnico de Santarém \nNesta tertúlia\, animada por Júlio Ricardo\, partimos da obra de Manuela Silva para refletir sobre o desenvolvimento comunitário à luz dos desafios contemporâneos. \nSerá uma conversa aberta e participativa em torno de temas como cidadania\, inclusão social\, participação ativa e o papel das comunidades na construção do seu próprio futuro. \nAssente na ideia de que o desenvolvimento não se impõe\, constrói-se coletivamente\, a tertúlia revisita os principais momentos do processo de desenvolvimento comunitário — do diagnóstico à ação e avaliação — valorizando o diálogo\, a escuta e a aprendizagem conjunta entre pessoas\, instituições e territórios. \nEste encontro é um convite à reflexão crítica e à partilha de experiências\, demonstrando como os contributos de Manuela Silva permanecem atuais e inspiradores para quem trabalha ou se interessa por intervenção social\, educação e desenvolvimento comunitário.
URL:https://pololiteraciadigital.ipsantarem.pt/event/tertulia-uma-experiencia-de-desenvolvimento-comunitario/
END:VEVENT
BEGIN:VEVENT
DTSTART;VALUE=DATE:20260120
DTEND;VALUE=DATE:20260122
DTSTAMP:20260426T025504
CREATED:20251215T121552Z
LAST-MODIFIED:20260113T110228Z
UID:6989-1768867200-1769039999@pololiteraciadigital.ipsantarem.pt
SUMMARY:AIResearch SUMMIT CIAC-PLDIS | IPSantarém – Artificial Intelligence\, Education and Social Impact
DESCRIPTION:📆 Date: 20–21 January 2026📍 Venue: Auditorium 1\, School of Education – Santarém Polytechnic University💻 Format: Presence and Online (Microsoft Teams) \nThe AIResearch SUMMIT CIAC-PLDIS | IPSantarém is an international event dedicated to Responsible and Applied Artificial Intelligence\, fostering discussion on the role of research\, higher education and public policy in building an ethical\, safe and inclusive digital ecosystem. \nThe Summit brings together researchers\, public policy stakeholders\, European universities\, international networks and institutional partners\, with a programme focused on: \n\n\nResponsible Artificial Intelligence \n\n\nHigher Education in the AI Era \n\n\nDigital Transformation and Social Impact \n\n\nResearch\, Innovation and International Cooperation \n\n\n🔗 Online access (Microsoft Teams) \nMeeting ID: 325 871 720 138 55Access Code: v6ac28b6 \n📄 Full programme:https://drive.google.com/file/d/13tdI1j204Z3z9W3lUJ19R3u1RICCoFLu/view?usp=drive_link \nRegistration: \nhttps://forms.gle/yYGghJbcHo6XwgY38
URL:https://pololiteraciadigital.ipsantarem.pt/event/airesearch-summit-ciac-pldis-ipsantarem-artificial-intelligence-education-and-social-impact/
ATTACH;FMTTYPE=image/png:https://pololiteraciadigital.ipsantarem.pt/wp-content/uploads/2025/12/banner-evento.png
END:VEVENT
BEGIN:VEVENT
DTSTART;TZID=UTC:20260202T160000
DTEND;TZID=UTC:20260202T170000
DTSTAMP:20260426T025504
CREATED:20260129T094209Z
LAST-MODIFIED:20260129T094416Z
UID:7069-1770048000-1770051600@pololiteraciadigital.ipsantarem.pt
SUMMARY:PLDIS WEBINAR SERIES 2025/26 Session 2
DESCRIPTION:🗓 February 2⏰ 4:00 PM \n🎤 TopicMeasuring the Impact of Scientific Production:The Importance of Metadata in Scientific Communication \n👥 SpeakerCIAC – Research Centre in Arts and Communication(PLDIS | IPSantarém) \n🌐 Online Event (Microsoft Teams)https://teams.microsoft.com/dl/launcher/launcher.html?url=%2F_%23%2Fl%2Fmeetup-join%2F19%3Ameeting_YmZiYTA4YWEtZDRiNC00ZWIzLTkyNmEtYmRjMGVmYTM4Y2Zj%40thread.v2%2F0%3Fcontext%3D%257b%2522Tid%2522%253a%2522130f0931-a0f6-44b9-ae85-b9f16c89ad82%2522%252c%2522Oid%2522%253a%252206fc369e-8d2d-4f71-8fdc-bd5fd32acec0%2522%257d%26anon%3Dtrue \n📍 Organization and SupportCIAC-PLDIS | IPSantarém | FCT – Foundation for Science and Technology\, I.P.(Project UID/04019/2025 – CIAC)
URL:https://pololiteraciadigital.ipsantarem.pt/event/pldis-webinar-series-2025-26-session-2/
ATTACH;FMTTYPE=image/jpeg:https://pololiteraciadigital.ipsantarem.pt/wp-content/uploads/2026/01/Cartaz-Webinar-PLDIS-25-26-04-Web.jpg
END:VEVENT
BEGIN:VEVENT
DTSTART;TZID=UTC:20260309T100000
DTEND;TZID=UTC:20260309T123000
DTSTAMP:20260426T025504
CREATED:20260302T110129Z
LAST-MODIFIED:20260302T145438Z
UID:7122-1773050400-1773059400@pololiteraciadigital.ipsantarem.pt
SUMMARY:MoMENToS com IA - 9 Março
DESCRIPTION:No próximo 9 de março\, o Auditório 1 da ESES – IPSantarém será palco de um encontro dedicado à reflexão\, prática e visão estratégica sobre o futuro da Inteligência Artificial. \nO evento “MoMENToS com IA” reúne estudantes\, investigadores e especialistas para uma manhã focada em inovação\, responsabilidade e oportunidades concretas na área da IA. \nA sessão inicia-se às 10h00 com um momento musical: A Voz de Laura Dias\, estudante PME. \nEntre as 10h15 e as 12h30: \n\n\n“Momentos com IA Responsável”\, Maria Potes Barbas. \n\n\n“New Futures AI: Programme Structure Overview”\, por Riad H. Dziri (INCO Group). \n\n\n“Choose AI”\, por Marcelo Cruz (Google.org). \n\n\nCom o apoio do PLDIS – Literacia Digital e Inclusão Social\, Google\, INCO Academy e Politécnico de Santarém\, este será um espaço de partilha estratégica\, capacitação prática e construção de futuros digitais mais responsáveis. \n📍 Presencial: Auditório 1 – ESES IPSantarém🕙 10h00 – 12h30 \nParticipar: https://teams.microsoft.com/meet/34777870331191?p=g6I6sUXAuuqEormNus\nID da Reunião: 347 778 703 311 91\nCódigo de acesso: 66LP6Wk9
URL:https://pololiteraciadigital.ipsantarem.pt/event/momentos-com-ia-9-marco/
END:VEVENT
BEGIN:VEVENT
DTSTART;TZID=UTC:20260418T160000
DTEND;TZID=UTC:20260418T170000
DTSTAMP:20260426T025504
CREATED:20260304T142424Z
LAST-MODIFIED:20260304T142424Z
UID:7135-1776528000-1776531600@pololiteraciadigital.ipsantarem.pt
SUMMARY:Webinar CIAC-PLDIS | Ciclo de Webinars 2025/26 - 18 de março
DESCRIPTION:No próximo dia 18 de março\, às 16h00\, realiza-se mais uma sessão do Ciclo de Webinars PLDIS\, promovido pelo polo do CIAC-PLDIS. \nA sessão terá como tema “Design Instrucional para além da EaD: construindo experiências de aprendizagem nos diferentes contextos educativos”\, abordando estratégias e perspetivas inovadoras para o desenvolvimento de experiências de aprendizagem significativas em diferentes ambientes educativos. \nO webinar será dinamizado por Danielle de Cássia Soares Santos\, Doutoranda em Educação e Designer Instrucional da Academia de Polícia de Minas Gerais (Brasil)\, que partilhará a sua experiência e reflexão sobre o papel do design instrucional na criação de modelos pedagógicos mais eficazes e adaptados aos desafios atuais da educação. \n📅 Data: 18 de março🕓 Hora: 16h00💻 Formato: Online🔗 Acesso: https://bit.ly/4bk9j8P
URL:https://pololiteraciadigital.ipsantarem.pt/event/webinar-ciac-pldis-ciclo-de-webinars-2025-26-18-de-marco/
ATTACH;FMTTYPE=image/jpeg:https://pololiteraciadigital.ipsantarem.pt/wp-content/uploads/2026/03/Cartaz-Webinar-PLDIS-25-26-06-Web-1.jpg
END:VEVENT
BEGIN:VEVENT
DTSTART;TZID=UTC:20260504T160000
DTEND;TZID=UTC:20260504T170000
DTSTAMP:20260426T025504
CREATED:20260414T101510Z
LAST-MODIFIED:20260414T101510Z
UID:7169-1777910400-1777914000@pololiteraciadigital.ipsantarem.pt
SUMMARY:Webinar PLDIS | Publish Based on Agreements
DESCRIPTION:No âmbito do Ciclo de Webinars PLDIS 2025/26\, o CIAC-PLDIS promove no próximo dia 4 de maio de 2026\, às 16h00\, uma sessão dedicada ao tema “Publish Based on Agreements”\, dinamizada por Filipe Madeira (CIAC-PLDIS / IPSantarém). \nEste webinar aborda estratégias emergentes de publicação científica baseadas em acordos institucionais e modelos de acesso aberto\, explorando oportunidades para investigadores maximizarem visibilidade\, impacto e sustentabilidade das suas produções científicas. \nA sessão destina-se a investigadores\, docentes e estudantes interessados em compreender os novos modelos de publicação académica e os desafios associados à ciência aberta e à negociação institucional. \n🔗 Acesso à sessão: https://bit.ly/47viil9
URL:https://pololiteraciadigital.ipsantarem.pt/event/webinar-pldis-publish-based-on-agreements/
ATTACH;FMTTYPE=image/jpeg:https://pololiteraciadigital.ipsantarem.pt/wp-content/uploads/2026/04/Cartaz-Webinar-PLDIS-25-26-07-Web.jpg
END:VEVENT
BEGIN:VEVENT
DTSTART;TZID=UTC:20260601T160000
DTEND;TZID=UTC:20260601T170000
DTSTAMP:20260426T025504
CREATED:20260415T091105Z
LAST-MODIFIED:20260415T091105Z
UID:7179-1780329600-1780333200@pololiteraciadigital.ipsantarem.pt
SUMMARY:Ciclo de Webinars PLDIS 2025/2026 - Junho
DESCRIPTION:No âmbito do Ciclo de Webinars PLDIS 2025/2026\, terá lugar no próximo dia 1 de junho de 2026\, às 16h00\, o webinar intitulado “Utilização da Inteligência Artificial Generativa no Ensino”\, dinamizado por Dário Rodrigues (CIAC-PLDIS / IP Santarém). \nEste webinar pretende promover a reflexão crítica e a partilha de práticas sobre a integração da inteligência artificial generativa em contextos educativos\, explorando oportunidades\, desafios e cenários de futuro no ensino. \n📍 Formato: Online (Microsoft Teams)🔗 Acesso à sessão🆔 ID da reunião: 372 962 745 816 50🔑 Código de acesso: bK3iX9MH \nEste evento integra as atividades do CIAC – Centro de Investigação em Artes e Comunicação\, sendo apoiado por fundos nacionais através da FCT\, no âmbito dos projetos UID/04019/2025 e UID/PRR/04019/2025
URL:https://pololiteraciadigital.ipsantarem.pt/event/ciclo-de-webinars-pldis-2025-2026-junho/
END:VEVENT
END:VCALENDAR