BEGIN:VCALENDAR
VERSION:2.0
PRODID:-//pololiteraciadigital - ECPv6.9.0//NONSGML v1.0//EN
CALSCALE:GREGORIAN
METHOD:PUBLISH
X-WR-CALNAME:pololiteraciadigital
X-ORIGINAL-URL:https://pololiteraciadigital.ipsantarem.pt
X-WR-CALDESC:Events for pololiteraciadigital
REFRESH-INTERVAL;VALUE=DURATION:PT1H
X-Robots-Tag:noindex
X-PUBLISHED-TTL:PT1H
BEGIN:VTIMEZONE
TZID:UTC
BEGIN:STANDARD
TZOFFSETFROM:+0000
TZOFFSETTO:+0000
TZNAME:UTC
DTSTART:20240101T000000
END:STANDARD
END:VTIMEZONE
BEGIN:VEVENT
DTSTART;TZID=UTC:20251007T090000
DTEND;TZID=UTC:20251008T180000
DTSTAMP:20260422T230027
CREATED:20250716T090432Z
LAST-MODIFIED:20250716T090540Z
UID:6605-1759827600-1759946400@pololiteraciadigital.ipsantarem.pt
SUMMARY:Conferência Internacional de Sistemas de Informação\, Transformação Digital e Informática na Educação
DESCRIPTION:📅 Datas: 7 e 8 de outubro de 2025📍 Local: Universidade Pedagógica de Maputo (UP-Maputo)\, Campus Lhanguene🕒 Duração: 2 dias💡 Tema: Inovar\, Conectar e Transformar o Saber no Mundo Digital🎯 Objetivo: Promover o intercâmbio de conhecimentos\, experiências\, práticas e investigação sobre o papel dos sistemas de informação\, da transformação digital e da informática no contexto educativo contemporâneo. \n🧑‍🏫 Público-alvo: \n\n\nProfessores \n\n\nInvestigadores \n\n\nEstudantes \n\n\nProfissionais da educação \n\n\nDecisores e técnicos ligados ao setor educativo e tecnológico \n\n\n📢 Chamada de Trabalhos: \n\n\nSubmissões abertas até 30 de julho de 2025 \n\n\n🔗 Mais informações: https://conferencia-sitdie.up.ac.mz/pt \nOrganizado por José Hoguane (antigo estudante do Doutoramento em Média-Arte Digital – DMAD)
URL:https://pololiteraciadigital.ipsantarem.pt/event/conferencia-internacional-de-sistemas-de-informacao-transformacao-digital-e-informatica-na-educacao/
END:VEVENT
BEGIN:VEVENT
DTSTART;TZID=UTC:20251006T160000
DTEND;TZID=UTC:20251006T160000
DTSTAMP:20260422T230027
CREATED:20251001T134158Z
LAST-MODIFIED:20251001T134223Z
UID:6775-1759766400-1759766400@pololiteraciadigital.ipsantarem.pt
SUMMARY:CICLO DE WEBINARS PLDIS 2025/26
DESCRIPTION:Sessão 1🗓 6 de outubro de 2025⏰ 16h00 \n\n🎤 Tema\nFrom Project to Indexing: A Guide to Creating a Scientific Journal \n\n👥 Oradores\n\n\nSusana Costa – Professor Adjunto Convidado (UAlg) \n\n\nAna Filipa C. Martins – Professor Adjunto (UAlg) \n\n\nPatrícia Dourado – Assistente Convidado (UAlg) \n\n\nBruno Mendes da Silva – Professor Coordenador com Agregação (UAlg) \n\n\n\n🔗 Inscrição
URL:https://pololiteraciadigital.ipsantarem.pt/event/ciclo-de-webinars-pldis-2025-26/
END:VEVENT
BEGIN:VEVENT
DTSTART;TZID=UTC:20250925T080000
DTEND;TZID=UTC:20250925T170000
DTSTAMP:20260422T230027
CREATED:20250925T140517Z
LAST-MODIFIED:20250925T140517Z
UID:6755-1758787200-1758819600@pololiteraciadigital.ipsantarem.pt
SUMMARY:IPSantarém estreia-se na Noite Ibero-americana de Investigadores 2025
DESCRIPTION:O IPSantarém vai integrar\, pela primeira vez\, a Noite Ibero-americana de Investigadores\, que se realiza na sexta-feira\, 26 de setembro\, no Jardim da República\, em Santarém. \nEsta iniciativa da Organização de Estados Ibero-americanos (OEI) aproxima a ciência da sociedade\, mobilizando investigadores\, escolas e parceiros para atividades abertas ao público — com especial foco em crianças e jovens — e articula-se com a Noite Europeia dos Investigadores. \nEm 2025\, o tema central é a ciência para as alterações climáticas\, incentivando o encontro presencial entre centros de I&D e a comunidade educativa. \nA iniciativa decorre das 17h00 às 23h00\, com entrada livre.Venha descobrir a ciência de forma divertida e próxima\, conhecer os nossos investigadores e participar em atividades que mostram como a investigação pode transformar o futuro.
URL:https://pololiteraciadigital.ipsantarem.pt/event/ipsantarem-estreia-se-na-noite-ibero-americana-de-investigadores-2025/
ATTACH;FMTTYPE=image/jpeg:https://pololiteraciadigital.ipsantarem.pt/wp-content/uploads/2025/09/ip-santarem-instituto-politecnico-de-santarem-1160x560-1.jpg
END:VEVENT
BEGIN:VEVENT
DTSTART;VALUE=DATE:20250630
DTEND;VALUE=DATE:20250710
DTSTAMP:20260422T230027
CREATED:20250205T100525Z
LAST-MODIFIED:20250205T100526Z
UID:6053-1751241600-1752105599@pololiteraciadigital.ipsantarem.pt
SUMMARY:5th Edition of the KU Leuven Summer School on the Law\, Ethics and Policy of AI
DESCRIPTION:The KU Leuven Summer School on the Law\, Ethics\, and Policy of Artificial Intelligence (AI) returns for its 5th edition\, bringing together a multidisciplinary group of participants to explore the legal\, ethical\, and policy-related challenges of AI and algorithm-driven processes. \nParticipants will gain a comprehensive overview of AI’s societal impact\, guided by lectures from:\n✔️ Leading academics\n✔️ Policy-makers from European and international institutions\n✔️ Practitioners in the field \nWho Should Attend?\nThe Summer School is designed for:\n✅ PhD researchers\, senior researchers\, and lecturers from fields such as law\, philosophy\, sociology\, and beyond\n✅ Civil servants\, members of civil society organizations\, practitioners\, and professionals interested in AI governance \n🎓 Certification & Research Presentation\nParticipants will receive a certificate of attendance (equivalent to 3 ECTS credits).\nThose interested will have the opportunity to present their AI-related research during a dedicated session. \nApplication Period\nApplications open: February 10\, 2025\nDeadline: March 17\, 2025\n🔗 More information & application details: [Summer School Website]  \nJoin us in Leuven for an engaging and insightful deep dive into AI’s legal\, ethical\, and policy dimensions! 🚀
URL:https://pololiteraciadigital.ipsantarem.pt/event/5th-edition-of-the-ku-leuven-summer-school-on-the-law-ethics-and-policy-of-ai/
END:VEVENT
BEGIN:VEVENT
DTSTART;TZID=UTC:20250526T090000
DTEND;TZID=UTC:20250526T173000
DTSTAMP:20260422T230027
CREATED:20250513T111038Z
LAST-MODIFIED:20250513T111054Z
UID:6451-1748250000-1748280600@pololiteraciadigital.ipsantarem.pt
SUMMARY:International Conference: FOREU4ALL Initiatives and Accelerate GenAI takes place on May 26 in Santarém
DESCRIPTION:On May 26th\, 2025\, the FOREU4ALL INITIATIVES AND ACCELERATE GENAI conference will be held at Auditorium I of the School of Education\, Polytechnic Institute of Santarém\, with both on-site and remote participation (via Zoom). \nThis event is part of the ACE2EU FOREU4ALL initiatives and is supported by strategic European alliances (Colours\, NEOLAiA)\, the international METARED network\, the Portuguese Foundation for Science and Technology\, CIAC-PLDIS\, and AI and Ethics experts. \nWith over 20 speakers from across Europe\, the program includes thematic panels\, hands-on AI workshops\, protocol signings\, and networking opportunities. Each speaker will present in their native language\, reflecting Europe’s rich cultural and linguistic diversity. \nThis conference is a milestone in promoting European cooperation in digital literacy\, educational innovation\, and the ethical integration of AI into academic institutions. \n Registration: https://www.forms.gle/5rxJ5LRSFd8AsNiA6\n Zoom ID: 918 5395 3635
URL:https://pololiteraciadigital.ipsantarem.pt/event/international-conference-foreu4all-initiatives-and-accelerate-genai-takes-place-on-may-26-in-santarem/
ATTACH;FMTTYPE=image/png:https://pololiteraciadigital.ipsantarem.pt/wp-content/uploads/2025/05/banners_Prancheta-1.png
END:VEVENT
BEGIN:VEVENT
DTSTART;VALUE=DATE:20250403
DTEND;VALUE=DATE:20250405
DTSTAMP:20260422T230027
CREATED:20250127T115520Z
LAST-MODIFIED:20250127T115656Z
UID:5998-1743638400-1743811199@pololiteraciadigital.ipsantarem.pt
SUMMARY:INTERNATIONAL SCIENTIFIC-PRACTICAL INTERNET CONFERENCE "ECONOMICS AND MANAGEMENT 2025: PROSPECTS FOR INTEGRATION AND INNOVATIVE DEVELOPMENT"
DESCRIPTION:We invite you to participate in the International Scientific and Practical Internet Conference ” Economics and Management 2024:\nProspects for Integration and Innovative Development” \, which will be held on April 3 – 4\, 2025.\nThe conference materials will be posted on the web resource of scientific and practical conferences at http://www.confcontact.com and published as a separate collection (with ISBN and UDC numbers assigned to the collection). \nThe purpose of the conference is to find solutions to current problems of economic development\, entrepreneurship and management in the context of globalization\, establish contacts between scientists from different countries\, and exchange scientific achievements and research experience. \n+more information
URL:https://pololiteraciadigital.ipsantarem.pt/event/international-scientific-practical-internet-conference-economics-and-management-2025-prospects-for-integration-and-innovative-development/
ORGANIZER;CN="Maria Nascimento":MAILTO:9729071@gmail.com
END:VEVENT
BEGIN:VEVENT
DTSTART;TZID=UTC:20241217T080000
DTEND;TZID=UTC:20241217T190000
DTSTAMP:20260422T230027
CREATED:20250116T115331Z
LAST-MODIFIED:20250116T115350Z
UID:5923-1734422400-1734462000@pololiteraciadigital.ipsantarem.pt
SUMMARY:10.ª CTSSI | ASSEMBLEIA DA REPÚBLICA: CONFERÊNCIA
DESCRIPTION:Participation in Conference: 10th CTSSI | PARLIAMENT: CONFERENCE “Rights of People with Disabilities: The Path to Full Inclusion” \nMaria Potes Barbas and Pilar Santos participated in the event\, where they discussed the digital literacy course for the job market and other opportunities that have already been created to promote inclusion.
URL:https://pololiteraciadigital.ipsantarem.pt/event/10-a-ctssi-assembleia-da-republica-conferencia/
END:VEVENT
BEGIN:VEVENT
DTSTART;VALUE=DATE:20241126
DTEND;VALUE=DATE:20241127
DTSTAMP:20260422T230027
CREATED:20250116T120608Z
LAST-MODIFIED:20250116T121420Z
UID:5927-1732579200-1732665599@pololiteraciadigital.ipsantarem.pt
SUMMARY:Participant at VI Annual MetaredTIC Meeting Portugal (Maria Potes Barbas)
DESCRIPTION:Attended the VI Annual MetaredTIC Meeting Portugal held at the INE Auditorium\, Colégio Almada Negreiros. Engaged with industry professionals\, explored the latest advancements in telecommunications and ICT\, and contributed to discussions on emerging trends and technologies. Accessible event programme here.
URL:https://pololiteraciadigital.ipsantarem.pt/event/participant-at-vi-annual-metaredtic-meeting-portugal-maria-potes-barbas/
END:VEVENT
BEGIN:VEVENT
DTSTART;VALUE=DATE:20241114
DTEND;VALUE=DATE:20241115
DTSTAMP:20260422T230027
CREATED:20250116T121831Z
LAST-MODIFIED:20250116T121831Z
UID:5929-1731542400-1731628799@pololiteraciadigital.ipsantarem.pt
SUMMARY:Attendee at Web Summit Lisbon 2024
DESCRIPTION:Attendee at Web Summit Lisbon 2024\nMaria Potes Barbas has participated as an attendee in the Web Summit 2024\, one of the world’s leading technology conferences\, held in Lisbon\, Portugal. Gained insights into cutting-edge innovations\, networking opportunities\, and global trends in technology\, entrepreneurship\, and digital transformation.
URL:https://pololiteraciadigital.ipsantarem.pt/event/attendee-at-web-summit-lisbon-2024/
END:VEVENT
END:VCALENDAR